BEGIN:VCALENDAR
VERSION:2.0
PRODID:-//EstoSite - ECPv6.15.20//NONSGML v1.0//EN
CALSCALE:GREGORIAN
METHOD:PUBLISH
X-ORIGINAL-URL:https://www.estosite.org
X-WR-CALDESC:Events for EstoSite
REFRESH-INTERVAL;VALUE=DURATION:PT1H
X-Robots-Tag:noindex
X-PUBLISHED-TTL:PT1H
BEGIN:VTIMEZONE
TZID:America/New_York
BEGIN:DAYLIGHT
TZOFFSETFROM:-0500
TZOFFSETTO:-0400
TZNAME:EDT
DTSTART:20250309T070000
END:DAYLIGHT
BEGIN:STANDARD
TZOFFSETFROM:-0400
TZOFFSETTO:-0500
TZNAME:EST
DTSTART:20251102T060000
END:STANDARD
BEGIN:DAYLIGHT
TZOFFSETFROM:-0500
TZOFFSETTO:-0400
TZNAME:EDT
DTSTART:20260308T070000
END:DAYLIGHT
BEGIN:STANDARD
TZOFFSETFROM:-0400
TZOFFSETTO:-0500
TZNAME:EST
DTSTART:20261101T060000
END:STANDARD
BEGIN:DAYLIGHT
TZOFFSETFROM:-0500
TZOFFSETTO:-0400
TZNAME:EDT
DTSTART:20270314T070000
END:DAYLIGHT
BEGIN:STANDARD
TZOFFSETFROM:-0400
TZOFFSETTO:-0500
TZNAME:EST
DTSTART:20271107T060000
END:STANDARD
END:VTIMEZONE
BEGIN:VEVENT
DTSTART;TZID=America/New_York:20260206T120000
DTEND;TZID=America/New_York:20260206T130000
DTSTAMP:20260423T082528
CREATED:20260131T000340Z
LAST-MODIFIED:20260131T003020Z
UID:13209-1770379200-1770382800@www.estosite.org
SUMMARY:Webinar: Power Up\, Ukraine
DESCRIPTION:A Message from our partners at UCCA:  \n\n\n\nAs we approach the fourth anniversary of russia’s full-scale invasion of Ukraine\, the Ukrainian Congress Committee of America (UCCA) is launching a national advocacy campaign entitled:  #SupportUkraine: Restore Power. Punish War Crimes.  \n\n\n\nThe focus of the campaign is on restoring Ukraine’s energy infrastructure and holding russia  accountable for its systematic attacks on civilians. Please join the campaign’s opening event — a virtual webinar titled “POWER-UP Ukraine\,” hosted by UCCA’s Emergency Energy Task Force on Friday February 6th at 12pm EST.  \n\n\n\nThe webinar will bring together leading U.S. and Ukrainian experts to examine the impact of russia’s attacks on Ukraine’s energy sector\, the implications for Ukraine’s economy and civilian population\, and the urgent need for sustained international engagement.  \n\n\n\nTO REGISTER\, click on the link below or use the QR code on the infographic above: \n\n\n\n\n\n\n\n\n\n\n\n\nRegister for the POWER UP UKRAINE webinar here\n\n\n\n\n\n\n\n\nPlease join in this important discussion about Ukraine’s critical needs and how best you can assist! \n\n\n\nReminder! Matching donations for Ukraine campaign! Send us a donation earmarked for support of Ukraine\, and we will match* it\, sending on to our Ukrianian partners\, UCCA.                                          *up to $10\,000 in total
URL:https://www.estosite.org/event/webinar/
LOCATION:New York
CATEGORIES:Advocacy,Online Discussion,Security,Ukraine
ATTACH;FMTTYPE=image/jpeg:https://www.estosite.org/wp-content/uploads/2026/01/2026-Powr-Up-Ukraine.jpg
ORGANIZER;CN="Ukrainian Congress Committee of America (UCCA)":MAILTO:unis@ucca.org
END:VEVENT
BEGIN:VEVENT
DTSTART;TZID=America/New_York:20260212T190000
DTEND;TZID=America/New_York:20260212T203000
DTSTAMP:20260423T082528
CREATED:20260201T235324Z
LAST-MODIFIED:20260212T233321Z
UID:13401-1770922800-1770928200@www.estosite.org
SUMMARY:Virtual lnfo Session: Baltic Advocacy Days & the Current Baltic Security Environment
DESCRIPTION:Interested in attending Baltic Advocacy Days? Want the latest updates on U.S.–Baltic security? Join us for a virtual Baltic Advocacy Days Information Session on February 12 at 7:00 PM ET. \n\n\n\n\n\n\n\nJBANC hosts this virtual information session in preparation for Baltic Advocacy Days 2026 (March 16 – 18 in Washington\, DC). \n\n\n\nThe session will feature Jason Moyer\, a foreign policy analyst specializing in transatlantic relations\, who will provide an overview of the current Baltic security environment. Lee Allen\, of JBANC\, will outline the goals of Baltic Advocacy Days and what participants can expect. \n\n\n\nJason C. Moyer is a foreign policy professional with over a dozen years of experience specializing in transatlantic relations\, transatlantic security\, the European Union\, NATO\, the Nordics\, the Baltics\, France\, and the OSCE. He teaches on the Nordic and Baltic regions for the Foreign Service Institute\, the training institution for diplomats in the US government. He is a Fellow for the Transatlantic Leadership Network and an Associated Researcher for the Latvian Institute of International Affairs. Jason is a non-resident fellow at the Atlantic Council and Program Director of Foreign & Security Policy at Heinrich-Böll-Stiftung.  \n\n\n\n \n\n\n\n\nRegister for the BAD2026 Info Session\n\n\n\n\nLearn more about Baltic Advocacy Days \n\n\n\nLearn more about JBANC
URL:https://www.estosite.org/event/bad2026-virtual-info-session/
LOCATION:New York
CATEGORIES:Advocacy,Online Discussion,Security and Baltic Cooperation
ATTACH;FMTTYPE=image/webp:https://www.estosite.org/wp-content/uploads/2026/01/BAD2026Image.webp
ORGANIZER;CN="Joint Baltic American National Committee (JBANC)":MAILTO:leeallen@jbanc.org
END:VEVENT
BEGIN:VEVENT
DTSTART;TZID=America/New_York:20260221T160000
DTEND;TZID=America/New_York:20260221T160000
DTSTAMP:20260423T082528
CREATED:20260204T051537Z
LAST-MODIFIED:20260221T011143Z
UID:13432-1771689600-1771689600@www.estosite.org
SUMMARY:Celebrating Estonian Independence Day: Connecticut
DESCRIPTION:You are cordiall invited!  \n\n\n\nJoin the Connecticut Estonan Society for a full program\, dinner\, and festivities in celebration of Estonia´s Independence Day! The program features Consul Tarmo Punnik of the Estonian EMbassy in Washington\, DC\, who will also be available for consular services.  \n\n\n\nOther guest speakers include  \n\n\n\nSamuel Kramer\, Ph.D.\, – Estonian Research experienceLelde Luika\, Ph.D. –  Juris Padegs Postdoctoral Associate\, Baltic Studies Program\, Yale University \n\n\n\nLike any good Etsonian party we will have good food\, some singing and dancing\, cash bar\, raffle and more.  \n\n\n\nMusic entertainment by DJ Kristjan Karu. . \n\n\n\nTIckets may be purchased by emailing mtlaan@att.net
URL:https://www.estosite.org/event/celebrating-estonian-independence-connecticut/
LOCATION:Georgina´s\, 275 Boston Tnpk.\, Andover\, 06043
CATEGORIES:Community,Culture,Estonia,Estonian Culture,Estonian Independence Day,Government of Estonia,Poetry
ATTACH;FMTTYPE=image/jpeg:https://www.estosite.org/wp-content/uploads/2026/02/Screenshot_4-2-2026_01348_www.estosite.org_.jpeg
ORGANIZER;CN="Estonian Society of Connecticut / Connecticuti Eesti Selts":MAILTO:estoniansocietyct@gmail.com
END:VEVENT
BEGIN:VEVENT
DTSTART;TZID=America/New_York:20260222T140000
DTEND;TZID=America/New_York:20260222T140000
DTSTAMP:20260423T082529
CREATED:20260216T171537Z
LAST-MODIFIED:20260216T173426Z
UID:13477-1771768800-1771768800@www.estosite.org
SUMMARY:Rally for Ukraine
DESCRIPTION:This rally in support of Ukraine will be held at the Lincoln Memorial in Washington\, DC.  \n\n\n\nAll Balts are called to arrive at the Lincoln Memorial at 1:30 pm and are encouraged to bring flags and signs.
URL:https://www.estosite.org/event/rally-for-ukraine/
LOCATION:New York
CATEGORIES:Advocacy
ATTACH;FMTTYPE=image/png:https://www.estosite.org/wp-content/uploads/2026/02/ukrainian-flag.png
END:VEVENT
BEGIN:VEVENT
DTSTART;TZID=America/New_York:20260222T140000
DTEND;TZID=America/New_York:20260222T170000
DTSTAMP:20260423T082529
CREATED:20260205T201843Z
LAST-MODIFIED:20260205T201848Z
UID:13440-1771768800-1771779600@www.estosite.org
SUMMARY:Celbrating Estonian Independence: Los Angeles area
DESCRIPTION:You are cordially invited to celebrate the 108th Anniversary of the Independence of the Republic of Estonia on Sunday\, February 22\, 2026 \n\n\n\nSocial Hour\n\n\n\nBegins at 1 pm \n\n\n\nProgram\n\n\n\nProgram begins at 2 p.m.  \n\n\n\nFeatured speaker: Ellen Valter\, project lead of the KESKUS International Estonian Centre project \n\n\n\nPerformances by Los Angeles Estonians \n\n\n\nSocial Hour begins at 1 p.m.\, program commences at 2 p.m. \n\n\n\n \n\n\n\nProgram will be followed by lunch Admission by donation: Pre-purchase until Feb. 21: $25 for Estonian Society Members\, $30 for non-members. At the door: $30 for Estonian Society Members\, $40 for non-members \n\n\n\nSee you at the Los Angeles Estonian House: 1306 West 24th Street\, Los Angeles\, California  \n\n\n\n\n\n\n\n\n\n\n\n\n\n\n\nKoosviibimine algab kell 13:00\, Programm kell 14:00 \n\n\n\nPeakõneleja: Ellen Valter\, KESKUS projektijuht \n\n\n\nEsinevad Los Angelese eestlased \n\n\n\nPärast ametlikku osa ootab Teid eestipärane toidulaud
URL:https://www.estosite.org/event/celbrating-estonian-independence-los-angeles-area/
LOCATION:New York
CATEGORIES:Community,Estonia,Estonian Culture,Estonian Independence Day,Family activities
ATTACH;FMTTYPE=image/jpeg:https://www.estosite.org/wp-content/uploads/2026/02/eesti-lipp-sinine-taevas.jpg
END:VEVENT
BEGIN:VEVENT
DTSTART;TZID=America/New_York:20260222T153000
DTEND;TZID=America/New_York:20260222T190000
DTSTAMP:20260423T082529
CREATED:20260209T234913Z
LAST-MODIFIED:20260211T060715Z
UID:13457-1771774200-1771786800@www.estosite.org
SUMMARY:Celebrating Estonian Independence Day: Boston\, Massachusetts area
DESCRIPTION:The Boston Estonain Society invites you to join them in celebrating the 108th anniversary of the Republic of Estonia! It will be a wonderful afternoon of community\, culture\, and celebration. \n\n\n\n\nUksed avame: 15:30 (3:30 PM)\n\n\n\nProgramm algab: 16:00 (4:00 PM)\n\n\n\nÜritus lõpeb orienteeruvalt: 18:30–19:00 (6:30–7:00 PM)\n\n\n\n\nTo ensure a festive table for everyone\, we are asking members to bring a dish to share. Please use the SignUpGenius link below to let us know what you plan to bring (salads\, sandwiches\, desserts\, etc.). \n\n\n\nThe Great BES Kringel Competition! Do you have the best twist in town? We are hosting a Kringel Competition to crown Boston’s best baker! If you would like to enter your masterpiece\, please indicate this on the sign-up sheet.. \n\n\n\nhttps://www.signupgenius.com/go/10C044CADA929A7FCCE9-61704802-evapidu
URL:https://www.estosite.org/event/celebrating-estonian-independence-day-boston-massachusetts-area/
LOCATION:Nordic Hall\, Scandinavian Cultural Center\, 206 Waltham St\, West Newton\, Massachusetts
CATEGORIES:Community,Culture,Estonian Culture,Estonian Independence Day,Family activities
ATTACH;FMTTYPE=image/jpeg:https://www.estosite.org/wp-content/uploads/2026/02/eesti-lipp-sinine-taevas.jpg
ORGANIZER;CN="Boston Estonian Society / Bostoni Eesti Selts":MAILTO:info@bostonestonian.org
END:VEVENT
BEGIN:VEVENT
DTSTART;TZID=America/New_York:20260224T000000
DTEND;TZID=America/New_York:20260224T235959
DTSTAMP:20260423T082529
CREATED:20260102T055914Z
LAST-MODIFIED:20260102T055917Z
UID:13079-1771891200-1771977599@www.estosite.org
SUMMARY:Estonian Independence Day\, EV108
DESCRIPTION:ELAGU EESTI VABARIIK! \n\n\n\nLong live the Republic of Estonia!
URL:https://www.estosite.org/event/estonian-independence-day-ev108/
LOCATION:New York
CATEGORIES:Advocacy,Community,Culture,Estonia,Estonian Independence Day
ATTACH;FMTTYPE=image/png:https://www.estosite.org/wp-content/uploads/2022/03/a-flag-1.png
END:VEVENT
BEGIN:VEVENT
DTSTART;TZID=America/New_York:20260226T000000
DTEND;TZID=America/New_York:20260301T235959
DTSTAMP:20260423T082529
CREATED:20260108T012026Z
LAST-MODIFIED:20260114T005358Z
UID:13110-1772064000-1772409599@www.estosite.org
SUMMARY:ESTOSKI 2026
DESCRIPTION:With 2026 finally here\, snowy days and alpine nights are just around the corner! The Estonian American Amateur Athletes invite you to the 62nd Annual ESTO Ski Trip. This year’s event calls participants to Mont Tremblant\, Quebec\, Canada\, where Estonians from all around\, plus their friends and family\, will convene for community\, culture and sport! EANC is a proud sponsor of this event.  \n\n\n\nRegistration is officially open for the following: \n\n\n\n\nRegister for Downhill Race\n\n\n\nRegister for XC Fun Race\n\n\n\nRegister for Awards Party \n\n\n\n\n \n\n\n\nPlease review the details below for more updates…or you can always check out the event page! \n\n\n\n\n\n\n\n\n\n\n\n\n\n\n\nItinerary Snapshot & Registration Links \n\n\n\nFull details of the weekend’s schedule can be found on our event page. Registration or tickets to an event are not required unless otherwise noted. As always\, aitäh to our sponsors for making this special weekend possible: Eesti Üliõpilaste Toetusfond\, Eesti Sihtkapital Kanadas\, Eesti Rahvuskomitee Ühendriikides\, & Eesti Abistamiskomitee USAs. \n\n\n\nThursday\, February 26th \n\n\n\nESTO Ski Welcome Meetup | 7:00PM @ Fat Mardi’s \n\n\n\nFriday\, February 27th \n\n\n\nDownhill Race | 10:00AM @ Nansen’s Pitch – Registration Required \n\n\n\nLunch Block  | 11:30PM – 1:30PM @ Fat Mardi’s \n\n\n\nEAAA Après Ski | 4:00PM – 7:00PM @ Fat Mardi’s \n\n\n\nSaturday\, February 28th \n\n\n\nXC Fun Race | 10:00AM @ 309 chemin Claude-Léfèbvre – Registration Required \n\n\n\nFamily Waterpark Meetup | 1:30PM @ brind’O Aquaclub \n\n\n\nESTO Ski Group Photo | 4:30PM @ Behind Sommet Des Neiges Hotel \n\n\n\nESTO Ski Awards Party | 7:00PM @ Expedition Room – Camp de Base – Tickets Required \n\n\n\n\n\n\n\n\n\n\n\n\n\n\n\nNotes from the Organizer:\n\n\n\nLodging & Lift Tickets \n\n\n\nIf you haven’t booked your accommodations yet\, be sure to do so as soon as possible and take advantage of our discounted group lodging & lift ticket rates [20–40% off regular rack rates]. \n\n\n\nTo make a reservation\, simply call the toll-free number 1-877-966-6873 and identify yourself as part of the Estonian Ski Club to access our group rates. Our Group Booking Code for all properties is 2PB1PO. See attachment for details on rates & lift ticket prices. \n\n\n\nPlease note: discounted lift tickets must be tied to a sponsored hotel reservation. If you are staying in an Airbnb or with friends and call only to book lift tickets\, you may be turned away. To work around this\, you can ask friends who are staying in one of the sponsored hotels to help reserve your lift tickets. \n\n\n\nYou’ll find full daily details on our dedicated event page\, along with extra perks like a discounted ESTO Spa Day at Auberge & Nordic Spa Beaux Rêves. As always\, please don’t hesitate to email @ESTO Ski Trip Team with any questions or concerns.
URL:https://www.estosite.org/event/estoski-2026/
LOCATION:Mont Tremblant Village\, Quebec\, CA
CATEGORIES:Community,Estonian Culture,Family activities
ATTACH;FMTTYPE=image/jpeg:https://www.estosite.org/wp-content/uploads/2026/01/estoski2026.jpg
ORGANIZER;CN="Eesti Spordiliit USAs":MAILTO:estoskidays@gmail.com
END:VEVENT
BEGIN:VEVENT
DTSTART;TZID=America/New_York:20260227T000000
DTEND;TZID=America/New_York:20260323T235959
DTSTAMP:20260423T082529
CREATED:20260102T061204Z
LAST-MODIFIED:20260224T153343Z
UID:13089-1772150400-1774310399@www.estosite.org
SUMMARY:Boston Baltic Film Festival\, In person & virtual
DESCRIPTION:In-person screenings: February 27 – March 1\, Emerson Paramount Center  \n\n\n\nJoin us for a wonderful weekend of film screenings\, engaging talks\, and Q&A sessions with award-winning filmmakers from Estonia\, Latvia\, and Lithuania. EANC is a proud supporter of the Boston Baltic Film Festival. \n\n\n\n\n\n\n\nThe festival opens with a Meet the Filmmakers panel discussion and a feature presentation of the Estonian film Fränk\, followed by our Opening Night Reception—an opportunity to meet\, mingle\, and continue the conversation with filmmakers and fellow guests.  \n\n\n\nCheck out the full festival line-up here: Event Schedule — Boston Baltic Film Festival \n\n\n\n\n\n\n\nVirtual screenings (different films): March 2 – 23. This year´s virtual screenings are accessible across the U.S. and Canada. \n\n\n\n\n\n\n\n\n\n\n\n\n\n\n\n\n\n\n\n\n\n\n\nContact: info@bostonbalticfilm.org
URL:https://www.estosite.org/event/boston-baltic-film-festival-5/
LOCATION:Emerson Paramount Center\, Bright Family Screening Room\, 559 Washington St.\, Boston\, Massachusetts\, 02111
CATEGORIES:Community,Culture,Estonian Culture,Family activities,Latvia,Lithuania,Virtual gathering
ATTACH;FMTTYPE=image/jpeg:https://www.estosite.org/wp-content/uploads/2026/01/unnamed-34.jpg
END:VEVENT
BEGIN:VEVENT
DTSTART;TZID=America/New_York:20260228T190000
DTEND;TZID=America/New_York:20260228T190000
DTSTAMP:20260423T082529
CREATED:20260223T035555Z
LAST-MODIFIED:20260223T035730Z
UID:13527-1772305200-1772305200@www.estosite.org
SUMMARY:Celebrating Estonian Independence: San Francisco area
DESCRIPTION:Come celebrate the 108th anniversary of Estonian independence in San Francisco on Saturday\, February 28! The event is co-hosted the San Francisco Estonian Society and Korp!Vironia USA Koondis.  \n\n\n\n\n\n\n\n \n\n\n\n \n\n\n\n \n\n\n\n \n\n\n\nSpeakers include:  \n\n\n\nDr. Maarja Merivoo-Parro is a public intellectual dedicated to exploring the history of mentality at the crossroads of culture and politics. She is a Fulbright scholar and Marie Curie fellow with extensive field work experience among Estonian communities from Abkhazia to Australia. Her most recent book received the Best European Learning Material Award BELMA at the 2025 Frankfurt Book Fair. Dr. Merivoo-Parro also bridges academia and society through documentary films\, television and radio programs. In 2026\, she is serving as Visiting Scholar at Stanford University. \n\n\n\nDr. Indrek Sarap is an active duty army officer of the Estonian Defence Forces with 25 years of experience in various command and staff positions\, including deployments to Afghanistan in 2006 and Mali in 2013-2014. Indrek is an honour graduate of the Baltic Defence College and has a masters degree from the Estonian Military Academy. Indrek continues his research in military decision-making as a visiting scholar at Stanford University (CISAC) and as part of the Future of the Decision-Making project. \n\n\n\nWe also welcome ESTONIAN HONORARY CONSUL IN SAN FRANCISCO CHRISTINE MORGAN\, partner in intellectual property law at Reed Smith. THE SAN FRANCISCO ESTONIAN COMMUNITY CHOIR will also perform. \n\n\n\nA FESTIVE RECEPTION precedes the program\, with COFFEE AND DESSERT to follow – join us for a spread of savory bites\, dessert and coffee\, a raffle\, and socializing. \n\n\n\n \n\n\n\nTickets at the link – $35 in advance/$40 door \n\n\n\nAll tickets include Estonian Society membership this year!
URL:https://www.estosite.org/event/celebrating-estonian-independence-san-francisco-area/
LOCATION:Latvian Hall\, 425 Hoffman Ave\, San Francisco\, California\, United States
CATEGORIES:Community,Estonian Culture,Estonian Independence Day
ATTACH;FMTTYPE=image/jpeg:https://www.estosite.org/wp-content/uploads/2026/02/634992945_1317061243792920_9192932861543797089_n.jpg
END:VEVENT
END:VCALENDAR